BEGIN:VCALENDAR
VERSION:2.0
PRODID:-//Martina Steffl - ECPv6.15.20//NONSGML v1.0//EN
CALSCALE:GREGORIAN
METHOD:PUBLISH
X-WR-CALNAME:Martina Steffl
X-ORIGINAL-URL:https://martinasteffl.at
X-WR-CALDESC:Veranstaltungen für Martina Steffl
REFRESH-INTERVAL;VALUE=DURATION:PT1H
X-Robots-Tag:noindex
X-PUBLISHED-TTL:PT1H
BEGIN:VTIMEZONE
TZID:Europe/Vienna
BEGIN:DAYLIGHT
TZOFFSETFROM:+0100
TZOFFSETTO:+0200
TZNAME:CEST
DTSTART:20250330T010000
END:DAYLIGHT
BEGIN:STANDARD
TZOFFSETFROM:+0200
TZOFFSETTO:+0100
TZNAME:CET
DTSTART:20251026T010000
END:STANDARD
BEGIN:DAYLIGHT
TZOFFSETFROM:+0100
TZOFFSETTO:+0200
TZNAME:CEST
DTSTART:20260329T010000
END:DAYLIGHT
BEGIN:STANDARD
TZOFFSETFROM:+0200
TZOFFSETTO:+0100
TZNAME:CET
DTSTART:20261025T010000
END:STANDARD
BEGIN:DAYLIGHT
TZOFFSETFROM:+0100
TZOFFSETTO:+0200
TZNAME:CEST
DTSTART:20270328T010000
END:DAYLIGHT
BEGIN:STANDARD
TZOFFSETFROM:+0200
TZOFFSETTO:+0100
TZNAME:CET
DTSTART:20271031T010000
END:STANDARD
END:VTIMEZONE
BEGIN:VEVENT
DTSTART;TZID=Europe/Vienna:20261016T190000
DTEND;TZID=Europe/Vienna:20261016T190000
DTSTAMP:20260420T025016
CREATED:20260407T125316Z
LAST-MODIFIED:20260407T125316Z
UID:7369-1792177200-1792177200@martinasteffl.at
SUMMARY:F. Hensel-Mendelssohn "Oratorium nach Bildern der Bibel" & L. A. Le Beau "Ruth"
DESCRIPTION:Leitung: Elisabeth Zottele
URL:https://martinasteffl.at/event/f-hensel-mendelssohn-oratorium-nach-bildern-der-bibel-l-a-le-beau-ruth/
LOCATION:Kalvarienbergkirche Wien\, Sankt-Bartholomäus-Platz 3\, Wien\, 1170
CATEGORIES:Auftritte
END:VEVENT
BEGIN:VEVENT
DTSTART;TZID=Europe/Vienna:20261018T190000
DTEND;TZID=Europe/Vienna:20261018T190000
DTSTAMP:20260420T025016
CREATED:20260407T125430Z
LAST-MODIFIED:20260407T125430Z
UID:7372-1792350000-1792350000@martinasteffl.at
SUMMARY:F. Hensel-Mendelssohn "Oratorium nach Bildern der Bibel" & L. A. Le Beau "Ruth"
DESCRIPTION:Leitung: Elisabeth Zottele
URL:https://martinasteffl.at/event/f-hensel-mendelssohn-oratorium-nach-bildern-der-bibel-l-a-le-beau-ruth-2/
LOCATION:Kalvarienbergkirche Wien\, Sankt-Bartholomäus-Platz 3\, Wien\, 1170
CATEGORIES:Auftritte
END:VEVENT
BEGIN:VEVENT
DTSTART;TZID=Europe/Vienna:20261107T170000
DTEND;TZID=Europe/Vienna:20261107T170000
DTSTAMP:20260420T025016
CREATED:20260206T103729Z
LAST-MODIFIED:20260407T125621Z
UID:7132-1794070800-1794070800@martinasteffl.at
SUMMARY:"Verleih uns Frieden" (Jubiläumskonzert)
DESCRIPTION:J.S. Bach „Ich hatte viel Bekümmernis“ \nF. Mendelssohn-Bartholdy „Drei Geistliche Lieder“ u.a. \nDirigent: Karl Michael Heger 
URL:https://martinasteffl.at/event/konzert-5/
LOCATION:Pfarrkirche Mistelbach\, Marienplatz 1\, Mistelbach\, 2130
CATEGORIES:Auftritte
END:VEVENT
BEGIN:VEVENT
DTSTART;TZID=Europe/Vienna:20261122T110000
DTEND;TZID=Europe/Vienna:20261122T110000
DTSTAMP:20260420T025016
CREATED:20260112T143633Z
LAST-MODIFIED:20260112T143633Z
UID:7045-1795345200-1795345200@martinasteffl.at
SUMMARY:F. Schubert "Messe in Es"
DESCRIPTION:Dirigent: Alexander Jost 
URL:https://martinasteffl.at/event/f-schubert-messe-in-es-8/
LOCATION:Schubertkirche Lichtental\, Marktgasse 40\, Wien\, 1090
CATEGORIES:Auftritte
END:VEVENT
BEGIN:VEVENT
DTSTART;TZID=Europe/Vienna:20261225T100000
DTEND;TZID=Europe/Vienna:20261225T100000
DTSTAMP:20260420T025016
CREATED:20260125T210343Z
LAST-MODIFIED:20260206T210649Z
UID:7056-1798192800-1798192800@martinasteffl.at
SUMMARY:Weihnachtshochamt
DESCRIPTION:Nähere Informationen folgen in Kürze \nDirigent: Karl Michael Heger
URL:https://martinasteffl.at/event/weihnachtshochamt-9/
LOCATION:Pfarrkirche Mistelbach\, Marienplatz 1\, Mistelbach\, 2130
CATEGORIES:Auftritte
END:VEVENT
END:VCALENDAR